BEGIN:VCALENDAR
VERSION:2.0
PRODID:-//Albany&#039;s Indoor Rockgym - ECPv6.15.20//NONSGML v1.0//EN
CALSCALE:GREGORIAN
METHOD:PUBLISH
X-ORIGINAL-URL:https://airrockgym.com
X-WR-CALDESC:Events for Albany&#039;s Indoor Rockgym
REFRESH-INTERVAL;VALUE=DURATION:PT1H
X-Robots-Tag:noindex
X-PUBLISHED-TTL:PT1H
BEGIN:VTIMEZONE
TZID:America/New_York
BEGIN:DAYLIGHT
TZOFFSETFROM:-0500
TZOFFSETTO:-0400
TZNAME:EDT
DTSTART:20250309T070000
END:DAYLIGHT
BEGIN:STANDARD
TZOFFSETFROM:-0400
TZOFFSETTO:-0500
TZNAME:EST
DTSTART:20251102T060000
END:STANDARD
BEGIN:DAYLIGHT
TZOFFSETFROM:-0500
TZOFFSETTO:-0400
TZNAME:EDT
DTSTART:20260308T070000
END:DAYLIGHT
BEGIN:STANDARD
TZOFFSETFROM:-0400
TZOFFSETTO:-0500
TZNAME:EST
DTSTART:20261101T060000
END:STANDARD
BEGIN:DAYLIGHT
TZOFFSETFROM:-0500
TZOFFSETTO:-0400
TZNAME:EDT
DTSTART:20270314T070000
END:DAYLIGHT
BEGIN:STANDARD
TZOFFSETFROM:-0400
TZOFFSETTO:-0500
TZNAME:EST
DTSTART:20271107T060000
END:STANDARD
END:VTIMEZONE
BEGIN:VEVENT
DTSTART;TZID=America/New_York:20260323T180000
DTEND;TZID=America/New_York:20260413T210000
DTSTAMP:20260421T101110
CREATED:20260227T013317Z
LAST-MODIFIED:20260301T165457Z
UID:1752-1774288800-1776114000@airrockgym.com
SUMMARY:Spring Climbing Series - Get Prepped to go Outside!
DESCRIPTION:** Hosted by our certified AMGA climbing instructor **\n\n\n\n– Classes can be taken a la carte or can be done as a series. \n\n\n\n3/23 – Focusing on footwork and climbing technique\, setting you up with the foundation to build your climbing strength upon. \n\n\n\n3/30 – Learning the basics of how to lead climb/belay and how to build simple anchors. \n\n\n\n4/6 – More in-depth lead climbing/belaying\, rappelling and anchor building using PAS systems & pass-thrus on chains (much like the type of climbing done at Thacher Park!) \n\n\n\n4/13 – Learn how to get you and/or your partner out of a tricky situation & how to respond to emergency situations.
URL:https://airrockgym.com/event/spring-climbing-series-get-prepped-to-go-outside/
END:VEVENT
END:VCALENDAR