BEGIN:VCALENDAR
VERSION:2.0
PRODID:-//Albany&#039;s Indoor Rockgym - ECPv6.15.20//NONSGML v1.0//EN
CALSCALE:GREGORIAN
METHOD:PUBLISH
X-WR-CALNAME:Albany&#039;s Indoor Rockgym
X-ORIGINAL-URL:https://airrockgym.com
X-WR-CALDESC:Events for Albany&#039;s Indoor Rockgym
REFRESH-INTERVAL;VALUE=DURATION:PT1H
X-Robots-Tag:noindex
X-PUBLISHED-TTL:PT1H
BEGIN:VTIMEZONE
TZID:America/New_York
BEGIN:DAYLIGHT
TZOFFSETFROM:-0500
TZOFFSETTO:-0400
TZNAME:EDT
DTSTART:20180311T070000
END:DAYLIGHT
BEGIN:STANDARD
TZOFFSETFROM:-0400
TZOFFSETTO:-0500
TZNAME:EST
DTSTART:20181104T060000
END:STANDARD
BEGIN:DAYLIGHT
TZOFFSETFROM:-0500
TZOFFSETTO:-0400
TZNAME:EDT
DTSTART:20190310T070000
END:DAYLIGHT
BEGIN:STANDARD
TZOFFSETFROM:-0400
TZOFFSETTO:-0500
TZNAME:EST
DTSTART:20191103T060000
END:STANDARD
BEGIN:DAYLIGHT
TZOFFSETFROM:-0500
TZOFFSETTO:-0400
TZNAME:EDT
DTSTART:20200308T070000
END:DAYLIGHT
BEGIN:STANDARD
TZOFFSETFROM:-0400
TZOFFSETTO:-0500
TZNAME:EST
DTSTART:20201101T060000
END:STANDARD
BEGIN:DAYLIGHT
TZOFFSETFROM:-0500
TZOFFSETTO:-0400
TZNAME:EDT
DTSTART:20210314T070000
END:DAYLIGHT
BEGIN:STANDARD
TZOFFSETFROM:-0400
TZOFFSETTO:-0500
TZNAME:EST
DTSTART:20211107T060000
END:STANDARD
BEGIN:DAYLIGHT
TZOFFSETFROM:-0500
TZOFFSETTO:-0400
TZNAME:EDT
DTSTART:20220313T070000
END:DAYLIGHT
BEGIN:STANDARD
TZOFFSETFROM:-0400
TZOFFSETTO:-0500
TZNAME:EST
DTSTART:20221106T060000
END:STANDARD
BEGIN:DAYLIGHT
TZOFFSETFROM:-0500
TZOFFSETTO:-0400
TZNAME:EDT
DTSTART:20230312T070000
END:DAYLIGHT
BEGIN:STANDARD
TZOFFSETFROM:-0400
TZOFFSETTO:-0500
TZNAME:EST
DTSTART:20231105T060000
END:STANDARD
BEGIN:DAYLIGHT
TZOFFSETFROM:-0500
TZOFFSETTO:-0400
TZNAME:EDT
DTSTART:20240310T070000
END:DAYLIGHT
BEGIN:STANDARD
TZOFFSETFROM:-0400
TZOFFSETTO:-0500
TZNAME:EST
DTSTART:20241103T060000
END:STANDARD
BEGIN:DAYLIGHT
TZOFFSETFROM:-0500
TZOFFSETTO:-0400
TZNAME:EDT
DTSTART:20250309T070000
END:DAYLIGHT
BEGIN:STANDARD
TZOFFSETFROM:-0400
TZOFFSETTO:-0500
TZNAME:EST
DTSTART:20251102T060000
END:STANDARD
BEGIN:DAYLIGHT
TZOFFSETFROM:-0500
TZOFFSETTO:-0400
TZNAME:EDT
DTSTART:20260308T070000
END:DAYLIGHT
BEGIN:STANDARD
TZOFFSETFROM:-0400
TZOFFSETTO:-0500
TZNAME:EST
DTSTART:20261101T060000
END:STANDARD
END:VTIMEZONE
BEGIN:VEVENT
DTSTART;TZID=America/New_York:20250614T180000
DTEND;TZID=America/New_York:20250614T233000
DTSTAMP:20260420T033719
CREATED:20250514T200639Z
LAST-MODIFIED:20250514T200656Z
UID:1640-1749924000-1749943800@airrockgym.com
SUMMARY:Queerfest II
DESCRIPTION:Join us for drag queen performances\, local bands\, craft vendors\, a food pop-up & more! \n\n\n\n\n\n\n\n\n\n\n\n\n\n\n\n\n\nCome with your queerest vibes and/or ally support.\n\n\n\nThis is a dry space. Consumption of drugs or alcohol is not permitted.
URL:https://airrockgym.com/event/queerfest-ii/
END:VEVENT
BEGIN:VEVENT
DTSTART;TZID=America/New_York:20240627T190000
DTEND;TZID=America/New_York:20240627T210000
DTSTAMP:20260420T033719
CREATED:20240617T143818Z
LAST-MODIFIED:20240617T143829Z
UID:1448-1719514800-1719522000@airrockgym.com
SUMMARY:Trivia Night!
DESCRIPTION:Put your climbing knowledge to the test with our rock climbing-themed trivia night! Whether it be about the history of the sport\, climbing terminology or technical aspects; we hope you come to rock it! Prizes awarded\, including a 1 month membership!
URL:https://airrockgym.com/event/trivia-night/
END:VEVENT
BEGIN:VEVENT
DTSTART;TZID=America/New_York:20231224T120000
DTEND;TZID=America/New_York:20240101T180000
DTSTAMP:20260420T033719
CREATED:20231218T191728Z
LAST-MODIFIED:20231218T191742Z
UID:1387-1703419200-1704132000@airrockgym.com
SUMMARY:Winter Break Hours
DESCRIPTION:It may not feel like winter… but come enjoy the break with us regardless!!
URL:https://airrockgym.com/event/winter-break-hours/
END:VEVENT
BEGIN:VEVENT
DTSTART;TZID=America/New_York:20231111T120000
DTEND;TZID=America/New_York:20231111T140000
DTSTAMP:20260420T033719
CREATED:20231110T235252Z
LAST-MODIFIED:20231110T235615Z
UID:1369-1699704000-1699711200@airrockgym.com
SUMMARY:DELAYED OPENING FOR SATURDAY 11/11
DESCRIPTION:Due to a private booking\, AIR will be opening at 2pm on 11/11
URL:https://airrockgym.com/event/private-event-delayed-opening-opening-2pm/
END:VEVENT
BEGIN:VEVENT
DTSTART;TZID=America/New_York:20250811T090000
DTEND;TZID=America/New_York:20250815T130000
DTSTAMP:20260420T033719
CREATED:20200208T005151Z
LAST-MODIFIED:20250731T233703Z
UID:803-1754902800-1755262800@airrockgym.com
SUMMARY:Summer Climbing Clinic-Level 1
DESCRIPTION:Take your summer adventure to new heights! Week long climbing clinics available for beginners to climbers of experience. Includes 4 days working on various aspects of climbing such as climbing techniques\, belaying with various devices and a day trip to an outdoor climbing site! Multiple weeks listed to choose from. For more details on clinic levels\, dates and pricing visit our program page at https://airrockgym.com/programs/summer-climbing-clinics/. For kids 10 yrs and up. \nM-Th: 9am-1pm\, Friday All-day outing (transportation provided with add-on fee). \n*Evening clinics available for Adults!*
URL:https://airrockgym.com/event/summer-climbing-clinic-level-1-3/
END:VEVENT
BEGIN:VEVENT
DTSTART;VALUE=DATE:20230124
DTEND;VALUE=DATE:20230315
DTSTAMP:20260420T033719
CREATED:20220131T200044Z
LAST-MODIFIED:20230107T003034Z
UID:1013-1674518400-1678838399@airrockgym.com
SUMMARY:Winter Climbing Courses
DESCRIPTION:Sign up for one (or all) of our listed winter climbing courses; designed to get you prepared for the outdoor climbing season!\n  \n\n  \nWinter Climbing Course Schedule:\n1/24 & 2/28: Intro to lead climbing & use of anchor chains outside. This class will get you ready for climbing at Thacher Park! \n1/31 & 2/14: General climbing skills and improvements. An excellent beginner’s course to immediately improve your climbing and confidence! \n2/7 & 3/7: Intro to top rope anchor building & use of chains in outdoor lead climbing.  \n2/21: Intro to rope ascending\, rappelling and aid climbing. These are skills needed in caving\, technical tree climbing and big wall climbing. \n3/14: Intro to advanced rescue techniques and belay escape. *Participants should be knowledgeable in lead climbing\, anchor building\, ascending and rappelling.* \n  \nClasses offered for teens-adults. Some basic climbing experience is required for some of the classes. Classes will be held every Tuesday evening from 6pm-*9pm. Cost is $45/class. \nSign up via email: airrockgym@gmail.com \n  \n* Class length may very depending on topic covered and number of guests registered. Guests are welcome to stay and practice at the end of every class. \n 
URL:https://airrockgym.com/event/winter-climbing-course/
LOCATION:Albany’s Indoor Rockgym\, 4C Vatrano Road\, Albany\, NY\, 12205\, United States
ORGANIZER;CN="Albany's Indoor Rockgym":MAILTO:airrockgym@gmail.com
END:VEVENT
BEGIN:VEVENT
DTSTART;TZID=America/New_York:20200217T100000
DTEND;TZID=America/New_York:20200221T220000
DTSTAMP:20260420T033719
CREATED:20200208T005753Z
LAST-MODIFIED:20200208T005753Z
UID:809-1581933600-1582322400@airrockgym.com
SUMMARY:February Break
DESCRIPTION:Get some extra time in the A.I.R. with our February break extended hours! \nFebruary 17th-February 21st\, 10am-10pm
URL:https://airrockgym.com/event/february-break/
END:VEVENT
BEGIN:VEVENT
DTSTART;TZID=America/New_York:20200215T100000
DTEND;TZID=America/New_York:20200215T120000
DTSTAMP:20260420T033719
CREATED:20200207T210720Z
LAST-MODIFIED:20200207T210720Z
UID:796-1581760800-1581768000@airrockgym.com
SUMMARY:Ladies' Morning Climb
DESCRIPTION:Ladies\, come spend the morning climbing with other bad@ss lady climbers within the sport. All experience levels welcome. $10 Day Passes.
URL:https://airrockgym.com/event/ladies-morning-climb/
END:VEVENT
BEGIN:VEVENT
DTSTART;TZID=America/New_York:20200211T180000
DTEND;TZID=America/New_York:20200227T220000
DTSTAMP:20260420T033719
CREATED:20200207T210426Z
LAST-MODIFIED:20200207T210426Z
UID:793-1581444000-1582840800@airrockgym.com
SUMMARY:Membership Class
DESCRIPTION:Come in Tuesday and Thursday evenings during the month of February to add a little bit extra to your climbing. Mini clinics/activities tailored to your climbing experience or come ask for help in working on an aspect of climbing of your choosing (lead climbing/belaying\, anchor building\, etc) . \nFree for Members\, $25/class for Non-Members.
URL:https://airrockgym.com/event/membership-class/
END:VEVENT
BEGIN:VEVENT
DTSTART;TZID=America/New_York:20191214T090000
DTEND;TZID=America/New_York:20191214T120000
DTSTAMP:20260420T033719
CREATED:20191212T211542Z
LAST-MODIFIED:20191212T211542Z
UID:772-1576314000-1576324800@airrockgym.com
SUMMARY:*Climb with Gary Golding\, Naked and Afraid TV Personality!
DESCRIPTION:* Exclusive Event for Taconic CSD students.\nWhat: An opportunity to climb and cave with Gary Golding! \nWhen: Saturday\, December 14th from 9am-Noon \nWhere: Our gym! Albany’s Indoor Rockgym. 4c Vatrano Rd in Albany\, NY \n  \n(Price includes admission for both rock climbing and caving\, as well as the renting of shoes and harnesses) \n  \nPlease Note:\nAll visitors to our gym MUST fill out a waiver form in order to participate in any activity. A link to the waiver form can be found on our Policy/Waiver page. (Save time by doing it before coming in!) \nAny participant under the age of 10 yrs old is REQUIRED to be paired with a parent/adult in a 1:1 ratio at all times in order to participate in the activities (parent does not get charged admission).
URL:https://airrockgym.com/event/climb-with-gary-golding-naked-and-afraid-tv-personality/
LOCATION:Albany’s Indoor Rockgym\, 4C Vatrano Road\, Albany\, NY\, 12205\, United States
ORGANIZER;CN="Albany's Indoor Rockgym":MAILTO:airrockgym@gmail.com
END:VEVENT
BEGIN:VEVENT
DTSTART;TZID=America/New_York:20191119T183000
DTEND;TZID=America/New_York:20191119T203000
DTSTAMP:20260420T033719
CREATED:20191023T211057Z
LAST-MODIFIED:20191025T234747Z
UID:754-1574188200-1574195400@airrockgym.com
SUMMARY:Lead Climbing (Level 2)
DESCRIPTION:*For climbers who have experience in lead climbing or have taken our Intro to Lead Climbing class \n  \nLearn advanced lead climbing techniques that will leave you in good shape for beginning to lead climb outdoors. Students will also be taught the necessary skills and equipment requirements to multi-pitch climb in our gym. \nBetween the unique setup of our gym and the skills learned in this class\, students will be able to traverse our walls\, perform hanging belays and platform belays that will allow them to spend hours climbing the walls without touching the floor. This is an extremely unique opportunity that is not available in any other climbing gym in the area. \nCome join us and start learning the skills to become a multifaceted and capable climber! \nGear Included. \n**Sign up required. Call/Stop in. **
URL:https://airrockgym.com/event/lead-climbing-level-2/
LOCATION:Albany’s Indoor Rockgym\, 4C Vatrano Road\, Albany\, NY\, 12205\, United States
END:VEVENT
BEGIN:VEVENT
DTSTART;TZID=America/New_York:20191114T183000
DTEND;TZID=America/New_York:20191114T203000
DTSTAMP:20260420T033719
CREATED:20191023T205509Z
LAST-MODIFIED:20191025T234840Z
UID:752-1573756200-1573763400@airrockgym.com
SUMMARY:Intro to Lead Climbing (Level 1)
DESCRIPTION:*Second listing of Intro class* \nLearn the basics of lead climbing and lead belaying in the comforts of a gym setting. Learn to avoid hazards like back clipping and Z-clipping. Also learn how to communicate effectively with your partner and to climb and belay while out of sight of each other. \nOur gym is uniquely designed to allow lead climbing on almost every surface of the gym including our expansive ceiling. With the skills learned in this class students will be able to climb from anywhere to anywhere in the gym\, letting your creativity and personal motivation dictate your climbs independent of the top ropes and their anchors. \nGear Included. \n**Sign Up Required. Call/Stop in.**
URL:https://airrockgym.com/event/intro-to-lead-climbing-level-1-2/
LOCATION:Albany’s Indoor Rockgym\, 4C Vatrano Road\, Albany\, NY\, 12205\, United States
END:VEVENT
BEGIN:VEVENT
DTSTART;TZID=America/New_York:20191112T183000
DTEND;TZID=America/New_York:20191112T203000
DTSTAMP:20260420T033719
CREATED:20191023T205057Z
LAST-MODIFIED:20191025T234926Z
UID:749-1573583400-1573590600@airrockgym.com
SUMMARY:Intro to Lead Climbing (Level 1)
DESCRIPTION:Learn the basics of lead climbing and lead belaying in the comforts of a gym setting. Learn to avoid hazards like back clipping and Z-clipping. Also learn how to communicate effectively with your partner and to climb and belay while out of sight of each other. \nOur gym is uniquely designed to allow lead climbing on almost every surface of the gym including our expansive ceiling. With the skills learned in this class students will be able to climb from anywhere to anywhere in the gym\, letting your creativity and personal motivation dictate your climbs independent of the top ropes and their anchors. \nGear Included. \n**Sign Up Required. Call/Stop in.**
URL:https://airrockgym.com/event/intro-to-lead-climbing-level-1/
LOCATION:Albany’s Indoor Rockgym\, 4C Vatrano Road\, Albany\, NY\, 12205\, United States
END:VEVENT
BEGIN:VEVENT
DTSTART;TZID=America/New_York:20191024T183000
DTEND;TZID=America/New_York:20191024T203000
DTSTAMP:20260420T033719
CREATED:20191004T204146Z
LAST-MODIFIED:20191004T204146Z
UID:740-1571941800-1571949000@airrockgym.com
SUMMARY:Self Rescue Class
DESCRIPTION:Learn how to rescue yourself from the wall if you ever find yourself in a situation where your belayer has become unresponsive or a piece of equipment has failed.
URL:https://airrockgym.com/event/self-rescue-class/
LOCATION:Albany’s Indoor Rockgym\, 4C Vatrano Road\, Albany\, NY\, 12205\, United States
END:VEVENT
BEGIN:VEVENT
DTSTART;TZID=America/New_York:20191017T183000
DTEND;TZID=America/New_York:20191017T203000
DTSTAMP:20260420T033719
CREATED:20191004T203150Z
LAST-MODIFIED:20191004T203150Z
UID:736-1571337000-1571344200@airrockgym.com
SUMMARY:Ascending and Rappelling Class
DESCRIPTION:Learn how to ascend and rappel using a variety of techniques and gear. Practice ascending with something as simple and easy as a prusik knot or how to rappel with just a carabiner!
URL:https://airrockgym.com/event/ascending-and-rappelling-class/
LOCATION:Albany’s Indoor Rockgym\, 4C Vatrano Road\, Albany\, NY\, 12205\, United States
END:VEVENT
BEGIN:VEVENT
DTSTART;TZID=America/New_York:20190824T120000
DTEND;TZID=America/New_York:20190824T170000
DTSTAMP:20260420T033719
CREATED:20190703T195436Z
LAST-MODIFIED:20190819T160645Z
UID:628-1566648000-1566666000@airrockgym.com
SUMMARY:Global Climbing Day
DESCRIPTION:Join us in a Global Celebration!\n– Hosted by the awesome people of A.I.R. in association with The North Face.\n\n\n“SOME PEOPLE BUILD WALLS\,\nOTHER PEOPLE CLIMB THEM.”\n\nGlobal Climbing Day marks the culmination of The North Face’s Walls Are Meant For Climbing campaign\, a global movement to bring people together through the power and community of climbing. \n\nSo Come do something rad with us and unite in our globally-spread love of rock climbing!\nOn August 24th we will be hosting one kick-a$$ day of events. From promotions to giveaways to the Emack and Bolio’s Ice Cream Truck on site for your sweet tooth convenience: Come get up in the A.I.R. and see why we are so in love with what we do. \n-The cost for the event covers the discounted admission/Day Pass to A.I.R. and the listed workshops/giveaway challenges (TBA). Shoe & Harness rentals are FREE! \n(Cost does not cover ice cream purchased from the Emack and Bolio’s truck)\n  \n  \n  \n  \n  \n  \n“We see walls as a place to unite our community through the sport of climbing – a sport that requires trust and partnership. The purpose is to inspire us all to think more hopefully about the community we can build – as climbers\, as outdoor enthusiasts\, as believers in the good of humanity.\n“Since 1966\, we’ve seen walls not as obstacles but as opportunities. They are a chance to explore what we believe to be possible. They are a vertical proving ground for grit\, perseverance\, and determination.\nWalls are meant for climbing.” –The North Face
URL:https://airrockgym.com/event/global-climbing-day-2/
LOCATION:Albany’s Indoor Rockgym\, 4C Vatrano Road\, Albany\, NY\, 12205\, United States
ORGANIZER;CN="Albany's Indoor Rockgym":MAILTO:airrockgym@gmail.com
END:VEVENT
BEGIN:VEVENT
DTSTART;VALUE=DATE:20190805
DTEND;VALUE=DATE:20190810
DTSTAMP:20260420T033719
CREATED:20190703T184050Z
LAST-MODIFIED:20190710T154456Z
UID:625-1564963200-1565395199@airrockgym.com
SUMMARY:Summer Climbing Clinic-Level 2
DESCRIPTION:Ready to take your climbing to the next level?\nOur Level 2 climbing clinic proceeds Level 1 and really helps to solidify all the new knowledge and techniques learned. \nLevel 2 is where we really set up climbers to be independent in the handling of their own gear and equipment and feel confident in taking on a rock face with ease. Under our supervision climbers will be tasked with selecting climbs within their own skill range and setting up their own anchor points (to be checked by our instructors). \nLevel 2 is a full-week course that consists of 3 days in our gym and 2 outings to a rock climbing site (TBD). \nMONDAY-WEDNESDAY: 9AM-1PM\, THURSDAY AND FRIDAY: ALL DAY OUTINGS \nFor ages 10 and up/those who have already taken Level 1
URL:https://airrockgym.com/event/summer-climbing-clinic-level-2/
LOCATION:Albany’s Indoor Rockgym\, 4C Vatrano Road\, Albany\, NY\, 12205\, United States
END:VEVENT
BEGIN:VEVENT
DTSTART;VALUE=DATE:20190722
DTEND;VALUE=DATE:20190727
DTSTAMP:20260420T033719
CREATED:20190703T181546Z
LAST-MODIFIED:20190710T154318Z
UID:618-1563753600-1564185599@airrockgym.com
SUMMARY:Summer Climbing Clinic-Level 1
DESCRIPTION:Missed your chance in signing up for the first week of Level 1? Don’t sweat it!\nThis clinic is the same as the one held on July 8th-12th and is designed for absolute beginners/ climbers of little experience. Don’t miss your chance with our second offering of Level 1. Call/Email us to sign up for our week-long rock climbing clinic where we will show you the ropes and get rock climbing to be your new favorite outdoor activity. \nTopics include: Basic climbing techniques • Climbing safety • Belay device lessons • Knot tying • Rappelling • Climbing/caving games • Plus a full-day outdoor climbing outing! \nMONDAY-THURSDAY 9AM-1PM\, FRIDAY: ALL DAY OUTING (Little Falls\, NY) \nChildren must be 10 years and up. Adult Clinics available in the evenings.
URL:https://airrockgym.com/event/summer-climbing-clinic-level-1/
LOCATION:Albany’s Indoor Rockgym\, 4C Vatrano Road\, Albany\, NY\, 12205\, United States
END:VEVENT
BEGIN:VEVENT
DTSTART;VALUE=DATE:20190708
DTEND;VALUE=DATE:20190713
DTSTAMP:20260420T033719
CREATED:20190703T181225Z
LAST-MODIFIED:20190710T154559Z
UID:614-1562544000-1562975999@airrockgym.com
SUMMARY:Summer Climbing Clinic-Level 1
DESCRIPTION:Look no further\, your next summer adventure is here!\nJoin us for a week-long rock climbing clinic where we will show you the ropes and get rock climbing to be your new favorite outdoor activity this summer. This clinic is designed for absolute beginners/climbers of minimal experience. \nTopics include: Basic climbing techniques • Climbing safety • Belay device lessons • Knot tying • Rappelling • Climbing/caving games • Plus a full-day outdoor climbing outing! \nMONDAY-THURSDAY: 9am-1pm\, FRIDAY: ALL DAY OUTING\nChildren must be 10 years and up. Adult Clinics available in the evenings. \nCall/Email us at airrockgym@gmail.com to sign up!
URL:https://airrockgym.com/event/summer-climbing-clinic/
LOCATION:Albany’s Indoor Rockgym\, 4C Vatrano Road\, Albany\, NY\, 12205\, United States
END:VEVENT
END:VCALENDAR